BEGIN:VCALENDAR
VERSION:2.0
CALSCALE:GREGORIAN
BEGIN:VEVENT
DTSTAMP:20260420T214316
DTSTART:20260430T190000
DTEND:20260430T210000
SUMMARY:Special Live Music Night ~ The Brambles + The Bryan Titus Trio 04.30.26
DESCRIPTION:Event Info: https://www.localwineevents.com/view/event/special-live-music-night-the-brambles-the-bryan-titus-trio-043026/1001675
LOCATION:Carr Winery -- 414 N Salsipuedes St. Santa Barbara, CA 93103
STATUS:CONFIRMED
SEQUENCE:0
TRANSP:OPAQUE
END:VEVENT
END:VCALENDAR
