BEGIN:VCALENDAR
VERSION:2.0
CALSCALE:GREGORIAN
BEGIN:VEVENT
DTSTAMP:20260422T233847
DTSTART:20260425T180000
DTEND:20260425T100000
SUMMARY:Mediterranean Flavors And Italian Wines
DESCRIPTION:Event Info: https://www.localwineevents.com/view/event/mediterranean-flavors-and-italian-wines/1001671
LOCATION:Fleming\'s Steakhouse and Wine Bar -- 8030 Via Dellagio Way Bldg F Orlando, FL 32819
STATUS:CONFIRMED
SEQUENCE:0
TRANSP:OPAQUE
END:VEVENT
END:VCALENDAR
