BEGIN:VCALENDAR
VERSION:2.0
CALSCALE:GREGORIAN
BEGIN:VEVENT
DTSTAMP:20260420T212305
DTSTART:20260416T120000
DTEND:20260514T200000
SUMMARY:Thirsty Thursday ~ $5 Wine Tasting  $5 Glasses
DESCRIPTION:Event Info: https://www.localwineevents.com/view/event/thirsty-thursday-5-wine-tasting-5-glasses/1001670
LOCATION:Carr Winery -- 414 N Salsipuedes St. Santa Barbara, CA 93103
STATUS:CONFIRMED
SEQUENCE:0
TRANSP:OPAQUE
END:VEVENT
END:VCALENDAR
