BEGIN:VCALENDAR
VERSION:2.0
CALSCALE:GREGORIAN
BEGIN:VEVENT
DTSTAMP:20260421T164727
DTSTART:20260423T183000
DTEND:20260423T203000
SUMMARY:Wine Tasting: Piedmont In Six Perfect Pours
DESCRIPTION:Event Info: https://www.localwineevents.com/view/event/wine-tasting-piedmont-in-six-perfect-pours/1001669
LOCATION:I Want That One -- 2410 N Haskell Ave Dallas, TX 75204
STATUS:CONFIRMED
SEQUENCE:0
TRANSP:OPAQUE
END:VEVENT
END:VCALENDAR
