BEGIN:VCALENDAR
VERSION:2.0
CALSCALE:GREGORIAN
BEGIN:VEVENT
DTSTAMP:20260421T161822
DTSTART:20260502T110000
DTEND:20260503T170000
SUMMARY:Aurora Sip  Stroll
DESCRIPTION:Event Info: https://www.localwineevents.com/view/event/aurora-sip-stroll/1001667
LOCATION:Aurora, Oregon -- 15018 2nd St NE Aurora, OR 97002
STATUS:CONFIRMED
SEQUENCE:0
TRANSP:OPAQUE
END:VEVENT
END:VCALENDAR
