BEGIN:VCALENDAR
VERSION:2.0
CALSCALE:GREGORIAN
BEGIN:VEVENT
DTSTAMP:20260421T163956
DTSTART:20260429T183000
DTEND:20260429T193000
SUMMARY:Herradura Tequila Kentucky Derby Tasting
DESCRIPTION:Event Info: https://www.localwineevents.com/view/event/herradura-tequila-kentucky-derby-tasting/1001659
LOCATION:Twin Liquors - Fitzhugh -- 3209 N Fitzhugh Ave Dallas, TX 75204
STATUS:CONFIRMED
SEQUENCE:0
TRANSP:OPAQUE
END:VEVENT
END:VCALENDAR
