BEGIN:VCALENDAR
VERSION:2.0
CALSCALE:GREGORIAN
BEGIN:VEVENT
DTSTAMP:20260421T163955
DTSTART:20260423T183000
DTEND:20260423T193000
SUMMARY:Old Forester Kentucky Derby Tasting
DESCRIPTION:Event Info: https://www.localwineevents.com/view/event/old-forester-kentucky-derby-tasting/1001656
LOCATION:Twin Liquors - Fitzhugh -- 3209 N Fitzhugh Ave Dallas, TX 75204
STATUS:CONFIRMED
SEQUENCE:0
TRANSP:OPAQUE
END:VEVENT
END:VCALENDAR
