BEGIN:VCALENDAR
VERSION:2.0
CALSCALE:GREGORIAN
BEGIN:VEVENT
DTSTAMP:20260419T122600
DTSTART:20260504T170000
DTEND:20260504T233000
SUMMARY:Whiskey  Cigar Pairing
DESCRIPTION:Event Info: https://www.localwineevents.com/view/event/whiskey-cigar-pairing/1001648
LOCATION:City Cigar Lounge -- 41 Northwest 2nd Street Miami, FL 33128
STATUS:CONFIRMED
SEQUENCE:0
TRANSP:OPAQUE
END:VEVENT
END:VCALENDAR
