BEGIN:VCALENDAR
VERSION:2.0
CALSCALE:GREGORIAN
BEGIN:VEVENT
DTSTAMP:20260420T113900
DTSTART:20260504T180000
DTEND:20260504T200000
SUMMARY:Bourbon Tastings At The Lackman
DESCRIPTION:Event Info: https://www.localwineevents.com/view/event/bourbon-tastings-at-the-lackman/1001634
LOCATION:The Lackman -- 1237 Vine Street Cincinnati, OH 45202
STATUS:CONFIRMED
SEQUENCE:0
TRANSP:OPAQUE
END:VEVENT
END:VCALENDAR
