BEGIN:VCALENDAR
VERSION:2.0
CALSCALE:GREGORIAN
BEGIN:VEVENT
DTSTAMP:20260420T113916
DTSTART:20260504T190000
DTEND:20260504T210000
SUMMARY:Wine, Cheese  Chocolates Tasting Class
DESCRIPTION:Event Info: https://www.localwineevents.com/view/event/wine-cheese-chocolates-tasting-class/1001616
LOCATION:VOM FASS Crestview Hills (next to First Watch) -- 2770 Town Center Blvd Crestview Hills, KY 41017
STATUS:CONFIRMED
SEQUENCE:0
TRANSP:OPAQUE
END:VEVENT
END:VCALENDAR
