BEGIN:VCALENDAR
VERSION:2.0
CALSCALE:GREGORIAN
BEGIN:VEVENT
DTSTAMP:20260421T203404
DTSTART:20260504T183000
DTEND:20260504T210000
SUMMARY:Agave Pairing Dinner By Cazcanes Tequila
DESCRIPTION:Event Info: https://www.localwineevents.com/view/event/agave-pairing-dinner-by-cazcanes-tequila/1001615
LOCATION:Trinity Street Restaurant and Bar -- 110 North Trinity Street Decatur, TX 76234
STATUS:CONFIRMED
SEQUENCE:0
TRANSP:OPAQUE
END:VEVENT
END:VCALENDAR
