BEGIN:VCALENDAR
VERSION:2.0
CALSCALE:GREGORIAN
BEGIN:VEVENT
DTSTAMP:20260421T141413
DTSTART:20260504T183000
DTEND:20260504T213000
SUMMARY:Don Julio Tequila Dinner
DESCRIPTION:Event Info: https://www.localwineevents.com/view/event/don-julio-tequila-dinner/1001613
LOCATION:Barcelona Restaurant -- 263 E. Whittier St. Columbus, OH 43206
STATUS:CONFIRMED
SEQUENCE:0
TRANSP:OPAQUE
END:VEVENT
END:VCALENDAR
