BEGIN:VCALENDAR
VERSION:2.0
CALSCALE:GREGORIAN
BEGIN:VEVENT
DTSTAMP:20260421T162934
DTSTART:20260509T120000
DTEND:20260509T140000
SUMMARY:Mother\'s Day Charcuterie Class At Tualatin Estate
DESCRIPTION:Event Info: https://www.localwineevents.com/view/event/mothers-day-charcuterie-class-at-tualatin-estate/1001607
LOCATION:Tualatin Estate | Willamette Valley Vineyards -- 10850 NW Seavey Road Forest Grove, OR 97116
STATUS:CONFIRMED
SEQUENCE:0
TRANSP:OPAQUE
END:VEVENT
END:VCALENDAR
