BEGIN:VCALENDAR
VERSION:2.0
CALSCALE:GREGORIAN
BEGIN:VEVENT
DTSTAMP:20260421T195513
DTSTART:20260510T110000
DTEND:20260510T140000
SUMMARY:Mother\'s Day Brunch In Bend
DESCRIPTION:Event Info: https://www.localwineevents.com/view/event/mothers-day-brunch-in-bend/1001606
LOCATION:Bend Tasting Room | Willamette Valley Vineyards -- 916 NW Wall St. Bend, OR 97703
STATUS:CONFIRMED
SEQUENCE:0
TRANSP:OPAQUE
END:VEVENT
END:VCALENDAR
