BEGIN:VCALENDAR
VERSION:2.0
CALSCALE:GREGORIAN
BEGIN:VEVENT
DTSTAMP:20260421T161822
DTSTART:20260510T110000
DTEND:20260510T180000
SUMMARY:Mother\'s Day Brunch
DESCRIPTION:Event Info: https://www.localwineevents.com/view/event/mothers-day-brunch/1001604
LOCATION:Vancouver Tasting Room  Restaurant | Willamette Valley Vineyards -- 801 Waterfront, Ste #205 Vancouver, WA 98660
STATUS:CONFIRMED
SEQUENCE:0
TRANSP:OPAQUE
END:VEVENT
END:VCALENDAR
