BEGIN:VCALENDAR
VERSION:2.0
CALSCALE:GREGORIAN
BEGIN:VEVENT
DTSTAMP:20260420T144636
DTSTART:20260510T103000
DTEND:20260510T153000
SUMMARY:Mother\'s Day Brunch At CMR
DESCRIPTION:Event Info: https://www.localwineevents.com/view/event/mothers-day-brunch-at-cmr/1001594
LOCATION:Casino Mine Ranch -- 10690 Shenandoah Rd Plymouth, CA 95669
STATUS:CONFIRMED
SEQUENCE:0
TRANSP:OPAQUE
END:VEVENT
END:VCALENDAR
