BEGIN:VCALENDAR
VERSION:2.0
CALSCALE:GREGORIAN
BEGIN:VEVENT
DTSTAMP:20260421T161821
DTSTART:20260523T120000
DTEND:20260524T170000
SUMMARY:Memorial Day Weekend Open House
DESCRIPTION:Event Info: https://www.localwineevents.com/view/event/memorial-day-weekend-open-house/1001593
LOCATION:Domaine Willamette -- 19255 Hwy 99W Dayton, OR 97114
STATUS:CONFIRMED
SEQUENCE:0
TRANSP:OPAQUE
END:VEVENT
END:VCALENDAR
