BEGIN:VCALENDAR
VERSION:2.0
CALSCALE:GREGORIAN
BEGIN:VEVENT
DTSTAMP:20260421T161821
DTSTART:20260510T000000
DTEND:20260510T000000
SUMMARY:Mother\'s Day Brunch
DESCRIPTION:Event Info: https://www.localwineevents.com/view/event/mothers-day-brunch/1001592
LOCATION:Domaine Willamette -- 19255 Hwy 99W Dayton, OR 97114
STATUS:CONFIRMED
SEQUENCE:0
TRANSP:OPAQUE
END:VEVENT
END:VCALENDAR
