BEGIN:VCALENDAR
VERSION:2.0
CALSCALE:GREGORIAN
BEGIN:VEVENT
DTSTAMP:20260421T162933
DTSTART:20260523T113000
DTEND:20260525T153000
SUMMARY:Celebrate Chardonnay ( More) This Memorial Day Weekend
DESCRIPTION:Event Info: https://www.localwineevents.com/view/event/celebrate-chardonnay-more-this-memorial-day-weekend/1001591
LOCATION:Willamette Valley Vineyards -- 8800 Enchanted Way SE Turner, OR 97392
STATUS:CONFIRMED
SEQUENCE:0
TRANSP:OPAQUE
END:VEVENT
END:VCALENDAR
