BEGIN:VCALENDAR
VERSION:2.0
CALSCALE:GREGORIAN
BEGIN:VEVENT
DTSTAMP:20260421T163033
DTSTART:20260509T110000
DTEND:20260510T163000
SUMMARY:Mother\'s Day Weekend Brunch At The Estate
DESCRIPTION:Event Info: https://www.localwineevents.com/view/event/mothers-day-weekend-brunch-at-the-estate/1001590
LOCATION:Willamette Valley Vineyards -- 8800 Enchanted Way SE Turner, OR 97392
STATUS:CONFIRMED
SEQUENCE:0
TRANSP:OPAQUE
END:VEVENT
END:VCALENDAR
