BEGIN:VCALENDAR
VERSION:2.0
CALSCALE:GREGORIAN
BEGIN:VEVENT
DTSTAMP:20260421T161759
DTSTART:20260516T183000
DTEND:20260516T210000
SUMMARY:Oregon Wine Month Pairings Dinner
DESCRIPTION:Event Info: https://www.localwineevents.com/view/event/oregon-wine-month-pairings-dinner/1001589
LOCATION:Willamette Valley Vineyards -- 8800 Enchanted Way SE Turner, OR 97392
STATUS:CONFIRMED
SEQUENCE:0
TRANSP:OPAQUE
END:VEVENT
END:VCALENDAR
