BEGIN:VCALENDAR
VERSION:2.0
CALSCALE:GREGORIAN
BEGIN:VEVENT
DTSTAMP:20260420T145222
DTSTART:20260425T113000
DTEND:20260425T131500
SUMMARY:A Seasonal Divining - The Many Expressions Of The Zinfandel
DESCRIPTION:Event Info: https://www.localwineevents.com/view/event/a-seasonal-divining---the-many-expressions-of-the-zinfandel/1001585
LOCATION:Divining -- 7350 Fairplay Road Somerset, CA 95684
STATUS:CONFIRMED
SEQUENCE:0
TRANSP:OPAQUE
END:VEVENT
END:VCALENDAR
