BEGIN:VCALENDAR
VERSION:2.0
CALSCALE:GREGORIAN
BEGIN:VEVENT
DTSTAMP:20260420T143744
DTSTART:20260425T110000
DTEND:20260426T170000
SUMMARY:Calaveras Spring Wine Weekend
DESCRIPTION:Event Info: https://www.localwineevents.com/view/event/calaveras-spring-wine-weekend/1001583
LOCATION:Calaveras Tasting Rooms -- 202 Main Street Murphys, CA 95222
STATUS:CONFIRMED
SEQUENCE:0
TRANSP:OPAQUE
END:VEVENT
END:VCALENDAR
