BEGIN:VCALENDAR
VERSION:2.0
CALSCALE:GREGORIAN
BEGIN:VEVENT
DTSTAMP:20260420T175700
DTSTART:20260516T120000
DTEND:20260516T150000
SUMMARY:Join Us At DaVero Farms  Winery For Our Spring Farm Festa!
DESCRIPTION:Event Info: https://www.localwineevents.com/view/event/join-us-at-davero-farms-winery-for-our-spring-farm-festa/1001582
LOCATION:DaVero Farms  Winery -- 766 Westside Road Healdsburg, California 95448
STATUS:CONFIRMED
SEQUENCE:0
TRANSP:OPAQUE
END:VEVENT
END:VCALENDAR
