BEGIN:VCALENDAR
VERSION:2.0
CALSCALE:GREGORIAN
BEGIN:VEVENT
DTSTAMP:20260421T064413
DTSTART:20260503T130000
DTEND:20260503T143000
SUMMARY:Brewery History Tours
DESCRIPTION:Event Info: https://www.localwineevents.com/view/event/brewery-history-tours/1001578
LOCATION:Saint Paul Brewing -- 688 Minnehaha Avenue East Saint Paul, MN 55106
STATUS:CONFIRMED
SEQUENCE:0
TRANSP:OPAQUE
END:VEVENT
END:VCALENDAR
