BEGIN:VCALENDAR
VERSION:2.0
CALSCALE:GREGORIAN
BEGIN:VEVENT
DTSTAMP:20260420T193620
DTSTART:20260503T123000
DTEND:20260503T143000
SUMMARY:Charcuterie Workshop
DESCRIPTION:Event Info: https://www.localwineevents.com/view/event/charcuterie-workshop/1001565
LOCATION:Hiatus Craft House -- 4045 Via Pescador Camarillo, CA 93012
STATUS:CONFIRMED
SEQUENCE:0
TRANSP:OPAQUE
END:VEVENT
END:VCALENDAR
