BEGIN:VCALENDAR
VERSION:2.0
CALSCALE:GREGORIAN
BEGIN:VEVENT
DTSTAMP:20260422T233846
DTSTART:20260503T173000
DTEND:20260503T193000
SUMMARY:Cheese And Charcuterie Board 101: A Toast To Mom
DESCRIPTION:Event Info: https://www.localwineevents.com/view/event/cheese-and-charcuterie-board-101-a-toast-to-mom/1001563
LOCATION:The Ancient Olive Gourmet of Winter Garden -- 125 West Plant Street Winter Garden, FL 34787
STATUS:CONFIRMED
SEQUENCE:0
TRANSP:OPAQUE
END:VEVENT
END:VCALENDAR
