BEGIN:VCALENDAR
VERSION:2.0
CALSCALE:GREGORIAN
BEGIN:VEVENT
DTSTAMP:20260419T122530
DTSTART:20260503T110000
DTEND:20260503T150000
SUMMARY:International Food Fest: A World Of Flavors
DESCRIPTION:Event Info: https://www.localwineevents.com/view/event/international-food-fest-a-world-of-flavors/1001561
LOCATION:530 NW 77th St -- 530 Northwest 77th Street Boca Raton, FL 33487
STATUS:CONFIRMED
SEQUENCE:0
TRANSP:OPAQUE
END:VEVENT
END:VCALENDAR
