BEGIN:VCALENDAR
VERSION:2.0
CALSCALE:GREGORIAN
BEGIN:VEVENT
DTSTAMP:20260422T074024
DTSTART:20260503T150000
DTEND:20260503T160000
SUMMARY:Factory Tour  Chocolate Decorating
DESCRIPTION:Event Info: https://www.localwineevents.com/view/event/factory-tour-chocolate-decorating/1001524
LOCATION:6492 Mirabel Rd -- 6492 Mirabel Road Forestville, CA 95436
STATUS:CONFIRMED
SEQUENCE:0
TRANSP:OPAQUE
END:VEVENT
END:VCALENDAR
