BEGIN:VCALENDAR
VERSION:2.0
CALSCALE:GREGORIAN
BEGIN:VEVENT
DTSTAMP:20260421T164803
DTSTART:20260503T120000
DTEND:20260503T140000
SUMMARY:Hands-on: Cavatelli Al Ragu\'
DESCRIPTION:Event Info: https://www.localwineevents.com/view/event/hands-on-cavatelli-al-ragu/1001513
LOCATION:Eataly Dallas, La Scuola -- 8687 North Central Expressway Dallas, TX 75225
STATUS:CONFIRMED
SEQUENCE:0
TRANSP:OPAQUE
END:VEVENT
END:VCALENDAR
