BEGIN:VCALENDAR
VERSION:2.0
CALSCALE:GREGORIAN
BEGIN:VEVENT
DTSTAMP:20260422T163924
DTSTART:20260503T130000
DTEND:20260503T153000
SUMMARY:High Tea
DESCRIPTION:Event Info: https://www.localwineevents.com/view/event/high-tea/1001509
LOCATION:19520 Heritage Oak Blvd -- 19520 Heritage Oak Boulevard Port Charlotte, FL 33948
STATUS:CONFIRMED
SEQUENCE:0
TRANSP:OPAQUE
END:VEVENT
END:VCALENDAR
