BEGIN:VCALENDAR
VERSION:2.0
CALSCALE:GREGORIAN
BEGIN:VEVENT
DTSTAMP:20260421T162911
DTSTART:20260503T140000
DTEND:20260503T160000
SUMMARY:Make Sushi With Chef Sarah - Sushi Making Cooking Class In Portland | Classpop!
DESCRIPTION:Event Info: https://www.localwineevents.com/view/event/make-sushi-with-chef-sarah---sushi-making-cooking-class-in-portland-classpop/1001503
LOCATION:Everywhere -- 920A SE Caruthers St Portland, OR 97214
STATUS:CONFIRMED
SEQUENCE:0
TRANSP:OPAQUE
END:VEVENT
END:VCALENDAR
