BEGIN:VCALENDAR
VERSION:2.0
CALSCALE:GREGORIAN
BEGIN:VEVENT
DTSTAMP:20260420T143805
DTSTART:20260503T120000
DTEND:20260503T140000
SUMMARY:Mother\'s Day Charcuterie Workshop
DESCRIPTION:Event Info: https://www.localwineevents.com/view/event/mothers-day-charcuterie-workshop/1001501
LOCATION:Movement Brewing Company -- 11151 Trade Center Drive Rancho Cordova, CA 95670
STATUS:CONFIRMED
SEQUENCE:0
TRANSP:OPAQUE
END:VEVENT
END:VCALENDAR
