BEGIN:VCALENDAR
VERSION:2.0
CALSCALE:GREGORIAN
BEGIN:VEVENT
DTSTAMP:20260420T104254
DTSTART:20260503T160000
DTEND:20260503T180000
SUMMARY:Handmade Gnocchi With Chef Cortney - Pasta Making Cooking Class In Grand Rapids | Classpop!
DESCRIPTION:Event Info: https://www.localwineevents.com/view/event/handmade-gnocchi-with-chef-cortney---pasta-making-cooking-class-in-grand-rapids-classpop/1001500
LOCATION:Bier Distillery -- 5295 WEST RIVER DR. Comstock Park, MI 49321
STATUS:CONFIRMED
SEQUENCE:0
TRANSP:OPAQUE
END:VEVENT
END:VCALENDAR
