BEGIN:VCALENDAR
VERSION:2.0
CALSCALE:GREGORIAN
BEGIN:VEVENT
DTSTAMP:20260421T064347
DTSTART:20260503T180000
DTEND:20260503T200000
SUMMARY:Make Ravioli And Tagliatelle With Chef Aaron At A Craft Winery And Cider House - Pasta Making Cooking Class In Minneapolis | Classpop!
DESCRIPTION:Event Info: https://www.localwineevents.com/view/event/make-ravioli-and-tagliatelle-with-chef-aaron-at-a-craft-winery-and-cider-house---pasta-making-cooking-class-in-minneapolis-classpop/1001468
LOCATION:Urban Forage Winery and Cider House -- 3016 E. Lake St. Minneapolis, MN 55402
STATUS:CONFIRMED
SEQUENCE:0
TRANSP:OPAQUE
END:VEVENT
END:VCALENDAR
