BEGIN:VCALENDAR
VERSION:2.0
CALSCALE:GREGORIAN
BEGIN:VEVENT
DTSTAMP:20260421T164032
DTSTART:20260503T153000
DTEND:20260503T163000
SUMMARY:Wine  Cheese: Wines From Venetian Alps
DESCRIPTION:Event Info: https://www.localwineevents.com/view/event/wine-cheese-wines-from-venetian-alps/1001462
LOCATION:Eataly Dallas, La Scuola -- 8687 North Central Expressway Dallas, TX 75225
STATUS:CONFIRMED
SEQUENCE:0
TRANSP:OPAQUE
END:VEVENT
END:VCALENDAR
