BEGIN:VCALENDAR
VERSION:2.0
CALSCALE:GREGORIAN
BEGIN:VEVENT
DTSTAMP:20260420T104248
DTSTART:20260502T160000
DTEND:20260502T180000
SUMMARY:Cinco De MeXo - VIP Tasting Tickets
DESCRIPTION:Event Info: https://www.localwineevents.com/view/event/cinco-de-mexo---vip-tasting-tickets/1001451
LOCATION:MeXo Restaurant and Tequila Mezcal Bar -- 118 Fulton Street East Grand Rapids, MI 49503
STATUS:CONFIRMED
SEQUENCE:0
TRANSP:OPAQUE
END:VEVENT
END:VCALENDAR
