BEGIN:VCALENDAR
VERSION:2.0
CALSCALE:GREGORIAN
BEGIN:VEVENT
DTSTAMP:20260419T122600
DTSTART:20260502T110000
DTEND:20260502T150000
SUMMARY:International Food Fest: A World Of Flavors
DESCRIPTION:Event Info: https://www.localwineevents.com/view/event/international-food-fest-a-world-of-flavors/1001441
LOCATION:2417 N Miami Ave -- 2417 N Miami Ave Miami, FL 33127
STATUS:CONFIRMED
SEQUENCE:0
TRANSP:OPAQUE
END:VEVENT
END:VCALENDAR
