BEGIN:VCALENDAR
VERSION:2.0
CALSCALE:GREGORIAN
BEGIN:VEVENT
DTSTAMP:20260419T092948
DTSTART:20260502T180000
DTEND:20260502T220000
SUMMARY:TEQUILA FEST 2026 - Royal Oak
DESCRIPTION:Event Info: https://www.localwineevents.com/view/event/tequila-fest-2026---royal-oak/1001440
LOCATION:Royal Oak Farmers Market -- 316 East Eleven Mile Road Royal Oak, MI 48067
STATUS:CONFIRMED
SEQUENCE:0
TRANSP:OPAQUE
END:VEVENT
END:VCALENDAR
