BEGIN:VCALENDAR
VERSION:2.0
CALSCALE:GREGORIAN
BEGIN:VEVENT
DTSTAMP:20260420T043735
DTSTART:20260502T143000
DTEND:20260502T163000
SUMMARY:Tequila Cocktail Class At Water Street Social Club
DESCRIPTION:Event Info: https://www.localwineevents.com/view/event/tequila-cocktail-class-at-water-street-social-club/1001435
LOCATION:Water Street Social Club -- 550 Water Street Prairie du Sac, WI 53578
STATUS:CONFIRMED
SEQUENCE:0
TRANSP:OPAQUE
END:VEVENT
END:VCALENDAR
