BEGIN:VCALENDAR
VERSION:2.0
CALSCALE:GREGORIAN
BEGIN:VEVENT
DTSTAMP:20260419T112110
DTSTART:20260502T150000
DTEND:20260502T160000
SUMMARY:Distillery Tour At Water Tower Distilling Co.
DESCRIPTION:Event Info: https://www.localwineevents.com/view/event/distillery-tour-at-water-tower-distilling-co/1001422
LOCATION:23 N Washington St -- 23 North Washington Street Ypsilanti, MI 48197
STATUS:CONFIRMED
SEQUENCE:0
TRANSP:OPAQUE
END:VEVENT
END:VCALENDAR
