BEGIN:VCALENDAR
VERSION:2.0
CALSCALE:GREGORIAN
BEGIN:VEVENT
DTSTAMP:20260421T141419
DTSTART:20260502T130000
DTEND:20260502T170000
SUMMARY:Buckeye Lake Winery Whiskey Fest
DESCRIPTION:Event Info: https://www.localwineevents.com/view/event/buckeye-lake-winery-whiskey-fest/1001420
LOCATION:Buckeye Lake Winery -- 13750 Rosewood Road Northeast Thornville, OH 43076
STATUS:CONFIRMED
SEQUENCE:0
TRANSP:OPAQUE
END:VEVENT
END:VCALENDAR
