BEGIN:VCALENDAR
VERSION:2.0
CALSCALE:GREGORIAN
BEGIN:VEVENT
DTSTAMP:20260421T194629
DTSTART:20260502T140000
DTEND:20260502T200000
SUMMARY:The North Coast Whiskey Festival
DESCRIPTION:Event Info: https://www.localwineevents.com/view/event/the-north-coast-whiskey-festival/1001415
LOCATION:The Pine Grove Weddings  Events -- 225 Laneda Avenue Manzanita, OR 97130
STATUS:CONFIRMED
SEQUENCE:0
TRANSP:OPAQUE
END:VEVENT
END:VCALENDAR
