BEGIN:VCALENDAR
VERSION:2.0
CALSCALE:GREGORIAN
BEGIN:VEVENT
DTSTAMP:20260420T062923
DTSTART:20260502T190000
DTEND:20260502T203000
SUMMARY:Bottle Your Own Bourbon  Interactive Distillery Experience In Columbus, OH
DESCRIPTION:Event Info: https://www.localwineevents.com/view/event/bottle-your-own-bourbon-interactive-distillery-experience-in-columbus-oh/1001414
LOCATION:Echo Spirits Distilling Co. -- 985 West 6th Avenue Columbus, OH 43212
STATUS:CONFIRMED
SEQUENCE:0
TRANSP:OPAQUE
END:VEVENT
END:VCALENDAR
