BEGIN:VCALENDAR
VERSION:2.0
CALSCALE:GREGORIAN
BEGIN:VEVENT
DTSTAMP:20260421T161928
DTSTART:20260502T110000
DTEND:20260502T180000
SUMMARY:Hood River Cider Festival
DESCRIPTION:Event Info: https://www.localwineevents.com/view/event/hood-river-cider-festival/1001413
LOCATION:Western Antique Aeroplane and Automobile Museum (WAAAM) -- 1600 Air Museum Road Hood River, OR 97031
STATUS:CONFIRMED
SEQUENCE:0
TRANSP:OPAQUE
END:VEVENT
END:VCALENDAR
