BEGIN:VCALENDAR
VERSION:2.0
CALSCALE:GREGORIAN
BEGIN:VEVENT
DTSTAMP:20260422T200348
DTSTART:20260502T110000
DTEND:20260502T120000
SUMMARY:Vin.Yasa - YOGA SATURDAY MORNINGS!
DESCRIPTION:Event Info: https://www.localwineevents.com/view/event/vinyasa---yoga-saturday-mornings/1001411
LOCATION:Carboy Winery at Mt. Garfield Estate -- 3572 G Road Palisade, CO 81526
STATUS:CONFIRMED
SEQUENCE:0
TRANSP:OPAQUE
END:VEVENT
END:VCALENDAR
