BEGIN:VCALENDAR
VERSION:2.0
CALSCALE:GREGORIAN
BEGIN:VEVENT
DTSTAMP:20260420T143739
DTSTART:20260502T140000
DTEND:20260502T150000
SUMMARY:West Sixth Farm Tour - Frankfort
DESCRIPTION:Event Info: https://www.localwineevents.com/view/event/west-sixth-farm-tour---frankfort/1001409
LOCATION:West Sixth Farm -- 4495 Shadrick Ferry Road Frankfort, KY 40601
STATUS:CONFIRMED
SEQUENCE:0
TRANSP:OPAQUE
END:VEVENT
END:VCALENDAR
