BEGIN:VCALENDAR
VERSION:2.0
CALSCALE:GREGORIAN
BEGIN:VEVENT
DTSTAMP:20260420T114915
DTSTART:20260502T120000
DTEND:20260502T140000
SUMMARY:Passport To Pints: A European Tasting Voyage With Geisthaus Brewing Company
DESCRIPTION:Event Info: https://www.localwineevents.com/view/event/passport-to-pints-a-european-tasting-voyage-with-geisthaus-brewing-company/1001400
LOCATION:Geisthaus Brewing Company -- 9584 Micron Avenue Sacramento, CA 95827
STATUS:CONFIRMED
SEQUENCE:0
TRANSP:OPAQUE
END:VEVENT
END:VCALENDAR
