BEGIN:VCALENDAR
VERSION:2.0
CALSCALE:GREGORIAN
BEGIN:VEVENT
DTSTAMP:20260419T122602
DTSTART:20260502T160000
DTEND:20260502T190000
SUMMARY:Ros  Rose: A Botanical Tasting Affair
DESCRIPTION:Event Info: https://www.localwineevents.com/view/event/ros-rose-a-botanical-tasting-affair/1001395
LOCATION:2417 N Miami Ave -- 2417 N Miami Ave Miami, FL 33127
STATUS:CONFIRMED
SEQUENCE:0
TRANSP:OPAQUE
END:VEVENT
END:VCALENDAR
