BEGIN:VCALENDAR
VERSION:2.0
CALSCALE:GREGORIAN
BEGIN:VEVENT
DTSTAMP:20260421T164032
DTSTART:20260502T150000
DTEND:20260502T180000
SUMMARY:6th Annual Ros Soire | A Hotel Vin Celebration
DESCRIPTION:Event Info: https://www.localwineevents.com/view/event/6th-annual-ros-soire-a-hotel-vin-celebration/1001388
LOCATION:Hotel Vin, Autograph Collection -- 215 East Dallas Road Grapevine, TX 76051
STATUS:CONFIRMED
SEQUENCE:0
TRANSP:OPAQUE
END:VEVENT
END:VCALENDAR
